BEGIN:VCALENDAR
VERSION:2.0
PRODID:-//ChamberMaster//Event Calendar 2.0//EN
METHOD:PUBLISH
X-PUBLISHED-TTL:P3D
REFRESH-INTERVAL:P3D
CALSCALE:GREGORIAN
BEGIN:VEVENT
DTSTART:20160119T223000Z
DTEND:20160120T003000Z
X-MICROSOFT-CDO-ALLDAYEVENT:FALSE
SUMMARY:Yes\, & then.... January 2016
DESCRIPTION:The Munster Chamber of Commerce\n\nAmbassador Committee\n\nalong with\n\nYes\, and then.... Experiential learning through improvisation\n\nPresent\n\nGOALS ACHIEVED\n\n\n\nGoals Achieved training workshop topics include time management\, planning and organizing are emphasized in the workshop.  Short term objectives and long term goals with time bound deadlines are emphasized in this interactive session.
X-ALT-DESC;FMTTYPE=text/html:The Munster Chamber of Commerce<br />\nAmbassador Committee<br />\nalong with<br />\nYes\, and then.... Experiential learning through improvisation<br />\nPresent<br />\nGOALS ACHIEVED<br />\n<br />\nGoals Achieved training workshop topics include time management\, planning and organizing are emphasized in the workshop.&nbsp\; Short term objectives and long term goals with time bound deadlines are emphasized in this interactive session.
LOCATION:Indiana Tech 9245 Calumet Avenue Munster\, IN
UID:e.1835.3033
SEQUENCE:3
DTSTAMP:20260421T180435Z
URL:https://members.munsterchamber.org/events/details/yes-then-january-2016-01-19-2016-3033
END:VEVENT

END:VCALENDAR
