BEGIN:VCALENDAR
VERSION:2.0
PRODID:-//ChamberMaster//Event Calendar 2.0//EN
METHOD:PUBLISH
X-PUBLISHED-TTL:P3D
REFRESH-INTERVAL:P3D
CALSCALE:GREGORIAN
BEGIN:VEVENT
DTSTART:20150410T180000Z
DTEND:20150410T203000Z
X-MICROSOFT-CDO-ALLDAYEVENT:FALSE
SUMMARY:Yes\, & then... Improv-based Communication for Business
DESCRIPTION:We at Yes\, & then are very excited to announce another thought-provoking workshop designed to assist your company to enhance the inter-office communication process as well as the interactions with your customers / clients!  The result from this communication enhancement will prove to be an increase in Performance\, Production and Profitability!!\n\nYes\, & then  is a cutting edge training and consulting firm designed to assist in the development of "soft" communication skills.  One of our core specialties will be the enhancement of business communication through improv-based training techniques.\n\nWhy Improv?  Improvisation isn't about comedy\, performing or theater it's about reacting -- being focused and present in the moment.  At its core\, improv is about communication at a very high and efficient level.  It's about working with others\, building trust and relationships around a shared goal.  \n\nImprov is also about developing self-confidence\, leadership\, listening without an agenda and quick-thinking under pressure.  Improv helps the business professional to think\, react and adapt very quickly to unexpected events.\n\nAt a time when employers are struggling to keep workers engaged and retain them\, investing in this type of training can not only raise morale\, but it also sends a clear message to your employees that you're committed to providing learning and development opportunities (a lack of which is a major reason employees leave companies)   and that you care about their engagement in the company.\n\nWe cordially invite you to attend our next scheduled seminar.  Our event will be held on:\n\n \n\nFriday\, April 10\, 2015\n\n1:00 PM   3:30 PM \n\nHUB of Innovation\n\n5233 Hohman Avenue   Suite 107\n\nHammond\, IN  46320\n\n \n\nWe are also excited to offer this most unique event at an introductory price of only $59!  Bring a friend / co-worker and receive a $10 rebate\, administered on the day of the seminar!  Registration can be easily completed by clicking on the attached Eventbrite link. \n\nPlease feel free to contact us at (219) 595-YES2 (595-9372) or via email at info@yes-and-then.com in order to allow us to answer any questions you might have.  Space for this event is limited\, therefore we encourage you to reserve your spot quickly!  Thank you and we look forward to meeting with you on April 10\, 2015!
X-ALT-DESC;FMTTYPE=text/html:<div><span style="color: rgb(0\, 0\, 0)\; font-family: calibri\; font-size: medium\;">We at <em><strong><span style="color: rgb(255\, 0\, 0)\;">Yes\,</span> &amp\; <span style="color: rgb(255\, 0\, 0)\;">then&hellip\;</span></strong></em>are very excited to announce another thought-provoking workshop designed to assist your company to enhance the inter-office communication process as well as the interactions with your customers / clients!&nbsp\; The result from this communication enhancement will prove to be an increase in <em><strong>Performance\, Production and Profitability!!</strong></em></span></div>\n\n<p><span style="color: rgb(0\, 0\, 0)\; font-family: calibri\; font-size: medium\;"><strong><em><span style="color: rgb(255\, 0\, 0)\;">Yes\,</span> &amp\; <span style="color: rgb(255\, 0\, 0)\;">then&hellip\;</span></em></strong> is a cutting edge training and consulting firm designed to assist in the development of &ldquo\;soft&rdquo\; communication skills.&nbsp\; One of our core specialties will be the enhancement of business communication through improv-based training techniques.</span></p>\n\n<p><span style="font-family: calibri\;"><span style="font-size: medium\;"><span style="color: rgb(0\, 0\, 0)\;"><em><strong>Why Improv?</strong></em>&nbsp\; Improvisation isn&#39\;t about comedy\, performing or theater&hellip\;it&#39\;s about reacting -- being focused and present in the moment.&nbsp\; At its core\, improv is about communication at a very high and efficient level.&nbsp\; It&rsquo\;s about working with others\, building trust and relationships around a shared goal.&nbsp\; </span></span></span></p>\n\n<p><span style="color: rgb(0\, 0\, 0)\; font-family: calibri\; font-size: medium\;">Improv is also about developing self-confidence\, leadership\, listening without an agenda and quick-thinking under pressure.&nbsp\; Improv helps the business professional to think\, react and adapt very quickly to unexpected events.</span></p>\n\n<p><span style="color: rgb(0\, 0\, 0)\; font-family: calibri\; font-size: medium\;">At a time when employers are struggling to keep workers engaged and retain them\, investing in this type of training can not only raise morale\, but it also sends a clear message to your employees that you&rsquo\;re committed to providing learning and development opportunities (a lack of which is a major reason employees leave companies) &ndash\; and that you care about their engagement in the company.</span></p>\n\n<p><span style="color: rgb(0\, 0\, 0)\; font-family: calibri\; font-size: medium\;">We cordially invite you to attend our next scheduled seminar.&nbsp\; Our event will be held on:</span></p>\n\n<p><span style="color: rgb(0\, 0\, 0)\; font-family: calibri\; font-size: medium\;">&nbsp\;</span></p>\n\n<p style="text-align: center\;"><span style="color: rgb(0\, 0\, 0)\; font-family: calibri\; font-size: medium\;"><strong>Friday\, April 10\, 2015</strong></span></p>\n\n<p style="text-align: center\;"><span style="color: rgb(0\, 0\, 0)\; font-family: calibri\; font-size: medium\;"><strong>1:00 PM &ndash\; 3:30 PM </strong></span></p>\n\n<p style="text-align: center\;"><span style="color: rgb(0\, 0\, 0)\; font-family: calibri\; font-size: medium\;"><strong>HUB of Innovation</strong></span></p>\n\n<div style="text-align: center\;"><span style="color: rgb(0\, 0\, 0)\; font-family: calibri\; font-size: medium\;"><strong>5233 Hohman Avenue &ndash\; Suite 107</strong></span></div>\n\n<div style="text-align: center\;"><strong><span style="color: rgb(0\, 0\, 0)\; font-family: calibri\; font-size: medium\;">Hammond\, IN&nbsp\; 46320</span></strong></div>\n\n<p><span style="color: rgb(0\, 0\, 0)\; font-family: calibri\; font-size: medium\;">&nbsp\;</span></p>\n\n<p><span style="color: rgb(0\, 0\, 0)\; font-family: calibri\; font-size: medium\;">We are also excited to offer this most unique event at an introductory price of <strong>only $59!&nbsp\; </strong>Bring a friend / co-worker and receive a <strong>$10 rebate</strong>\, administered on the day of the seminar!&nbsp\; Registration can be easily completed by clicking on the attached Eventbrite link. </span></p>\n\n<p><span style="color: rgb(0\, 0\, 0)\; font-family: calibri\; font-size: medium\;">Please feel free to contact us at (219) 595-YES2 (595-9372) or via email at info@yes-and-then.com in order to allow us to answer&nbsp\;any questions you might have.&nbsp\; Space for this event is limited\, therefore we encourage you to reserve your spot quickly!&nbsp\; Thank you and we look forward to meeting with you on April 10\, 2015!</span></p>\n
LOCATION:HUB of Innovation 5233 Hohman Avenue ? Suite 107 Hammond\, IN 46320
UID:e.1835.2657
SEQUENCE:3
DTSTAMP:20260419T134623Z
URL:https://members.munsterchamber.org/events/details/yes-then-improv-based-communication-for-business-04-10-2015-2657
END:VEVENT

END:VCALENDAR
