BEGIN:VCALENDAR
VERSION:2.0
PRODID:-//ChamberMaster//Event Calendar 2.0//EN
METHOD:PUBLISH
X-PUBLISHED-TTL:P3D
REFRESH-INTERVAL:P3D
CALSCALE:GREGORIAN
BEGIN:VEVENT
DTSTART:20150116T230000Z
DTEND:20150117T010000Z
X-MICROSOFT-CDO-ALLDAYEVENT:FALSE
SUMMARY:Yes\, & then... Grand Opening! Open house and networking event
DESCRIPTION:Please join us for the Yes\, & then... Grand Opening open house / networking event!\n\nWho we are \n\nYes & then  is a NW Indiana based training and development firm. Yes & then  will customize a high-energy\, humorous and interactive corporate improv training workshop which empowers business executives to discover their inherent creative potential.\n\nWe're pleased to announce an exciting new venture coming to the HUB of Innovation in Hammond\, IN in January of 2015!  Yes & then  is a cutting edge training and consulting firm designed to assist in the development of "soft" communication skills.  One of our core specialties will be the enhancement of business communication through improv-based training!\n\nImprovisation isn't about comedy\, performing or theater it's about reacting   being focused and present in the moment.  At its core\, improv is about communication at a very high and efficient level.  It's about working with others\, building trust and relationships around a shared goal.  \n\nImprov is also about developing self-confidence\, leadership\, listening without an agenda and quick-thinking under pressure.  Improv helps the business professional to think\, react and adapt very quickly to unexpected events.\n\nWhy improv? At a time when employers are struggling to keep workers engaged and retain them\, investing in this type of training can not only raise morale\, but it also sends a clear message to your employees that you're committed to providing learning and development opportunities (a lack of which is a major reason employees leave companies)   and that you care about their engagement in the company.\n\n\n\nOther training offerings will include skills enhancement in the areas of PResentation Skills\, Goal Setting\, Selling Skills and Interviewing Skills (for hiring managers as well as for job seekers).\n\n\n\nPlease join us on Friday\, January 16\, 2015 for an evening of celebration and networking!  We are eager to showcase our new office space located witin the HUB of Innovation Building in Downtown Hammond!
X-ALT-DESC;FMTTYPE=text/html:<strong>Please join us for the Yes\, &amp\; then... Grand Opening open house / networking event!</strong>\n\n<p><strong><em>Who we are&hellip\;</em></strong></p>\n\n<p><strong><em>Yes &amp\; then&hellip\;</em></strong> is a NW Indiana based training and development firm. <strong><em>Yes </em></strong><strong><em>&amp\;</em></strong> <strong><em>then&hellip\;</em></strong> will customize a high-energy\, humorous and interactive corporate improv training workshop which empowers business executives to discover their inherent creative potential.</p>\n\n<p><span style="font-family: calibri\;"><span style="color: rgb(0\, 0\, 0)\;">We&rsquo\;re pleased to announce an exciting new venture coming to the HUB of Innovation in Hammond\, IN in January of 2015!&nbsp\;</span>&nbsp\;<strong><em>Yes&nbsp\;<span style="color: rgb(0\, 0\, 0)\;">&amp\;&nbsp\;</span>then&hellip\;</em></strong>&nbsp\;<span style="color: rgb(0\, 0\, 0)\;">is a cutting edge training and consulting firm designed to assist in the development of &ldquo\;soft&rdquo\; communication skills.&nbsp\;&nbsp\;One of our core specialties will be the enhancement of business communication through improv-based training!</span></span></p>\n\n<p><span style="font-family: calibri\;"><span style="color: rgb(0\, 0\, 0)\;">Improvisation isn&rsquo\;t about comedy\, performing or theater&hellip\;it&rsquo\;s about reacting &mdash\; being focused and present in the moment.&nbsp\;&nbsp\;At its core\, improv is about communication at a very high and efficient level.&nbsp\;&nbsp\;It&rsquo\;s about working with others\, building trust and relationships around a shared goal.&nbsp\;&nbsp\;</span></span></p>\n\n<p><span style="color: rgb(0\, 0\, 0)\; font-family: calibri\;">Improv is also about developing self-confidence\, leadership\, listening without an agenda and quick-thinking under pressure.&nbsp\;&nbsp\;Improv helps the business professional to think\, react and adapt very quickly to unexpected events.</span></p>\n\n<p><span style="color: rgb(0\, 0\, 0)\; font-family: calibri\;">Why improv? At a time when employers are struggling to keep workers engaged and retain them\, investing in this type of training can not only raise morale\, but it also sends a clear message to your employees that you&rsquo\;re committed to providing learning and development opportunities (a lack of which is a major reason employees leave companies) &ndash\; and that you care about their engagement in the company.<br />\n<br />\nOther training offerings will include skills enhancement in the areas of PResentation Skills\, Goal Setting\, Selling Skills and Interviewing Skills (for hiring managers as well as for job seekers).<br />\n<br />\nPlease join us on Friday\, January 16\, 2015 for an evening of celebration and networking!&nbsp\; We are eager to showcase our new office space located witin the HUB of Innovation Building in Downtown Hammond!</span><br />\n&nbsp\;</p>\n
LOCATION:Yes\, & then... HUB of Innovation Building 5233 Hohman Avenue Hammond\, IN 46320
UID:e.1835.2631
SEQUENCE:3
DTSTAMP:20260419T182058Z
URL:https://members.munsterchamber.org/events/details/yes-then-grand-opening-open-house-and-networking-event-01-16-2015-2631
END:VEVENT

END:VCALENDAR
