BEGIN:VCALENDAR
VERSION:2.0
PRODID:-//ChamberMaster//Event Calendar 2.0//EN
METHOD:PUBLISH
X-PUBLISHED-TTL:P3D
REFRESH-INTERVAL:P3D
CALSCALE:GREGORIAN
BEGIN:VEVENT
DTSTART:20140504T160000Z
DTEND:20140504T173000Z
X-MICROSOFT-CDO-ALLDAYEVENT:FALSE
SUMMARY:WORLD LAUGHTER DAY 2014
DESCRIPTION:World Laughter day for peace\, healing and happiness. Laugh as you have never laughed before! No jokes ...only mirthful\, unconditional \, sustained laughter. EVERYONE WELCOME.... ALL AGES \, ALL CAPABILITIES. GAMES. PRIZES AND LOTS OF FUN. Expect a hilarious\, healthy and healing event.
X-ALT-DESC;FMTTYPE=text/html:World Laughter day for peace\, healing and happiness. Laugh as you have never laughed before! No jokes ...only mirthful\, unconditional \, sustained laughter. EVERYONE WELCOME.... ALL AGES \, ALL CAPABILITIES. GAMES. PRIZES AND LOTS OF FUN. Expect a hilarious\, healthy and healing event.
LOCATION:MUNSTER TOWN HALL\, Ridge rd\, Munster\, IN. 46321.
UID:e.1835.468
SEQUENCE:3
DTSTAMP:20260420T075100Z
URL:https://members.munsterchamber.org/events/details/world-laughter-day-2014-05-04-2014-468
END:VEVENT

END:VCALENDAR
