BEGIN:VCALENDAR
VERSION:2.0
PRODID:-//ChamberMaster//Event Calendar 2.0//EN
METHOD:PUBLISH
X-PUBLISHED-TTL:P3D
REFRESH-INTERVAL:P3D
CALSCALE:GREGORIAN
BEGIN:VEVENT
DTSTART:20140923T181500Z
DTEND:20140923T190000Z
X-MICROSOFT-CDO-ALLDAYEVENT:FALSE
SUMMARY:Town Meeting Committee Meeting
DESCRIPTION:Town Meeting\n\nAgenda:  Planned Questions for 9/30 event   \n\nConfirmed Participates (09/17)\n\nTown - John Reed\, Town Council\n\nSchool - Jeff Hendrix\, School Town of Munster\n\nRegion - Dennis Rittenmyer\, One Region\n\nBusiness - John Gorski\, Community Hospital\n\nFaith - Steve Conger\, Ridge United Methodist Church\n\nService - Dr. Lorin Brown\, Orthopedic Surgeon
X-ALT-DESC;FMTTYPE=text/html:Town Meeting<br />\nAgenda:&nbsp\; Planned Questions for 9/30 event &nbsp\;&nbsp\;<br />\nConfirmed&nbsp\;Participates (09/17)<br />\nTown - John Reed\, Town Council<br />\nSchool - Jeff Hendrix\, School Town of Munster<br />\nRegion - Dennis Rittenmyer\, One Region<br />\nBusiness - John Gorski\, Community Hospital<br />\nFaith - Steve Conger\, Ridge United Methodist Church<br />\nService - Dr. Lorin Brown\, Orthopedic Surgeon<br />\n&nbsp\;&nbsp\;&nbsp\;&nbsp\;
LOCATION:Munster Chamber office 1040 Ridge Road - Lower Level
UID:e.1835.522
SEQUENCE:3
DTSTAMP:20260420T012645Z
URL:https://members.munsterchamber.org/events/details/town-meeting-committee-meeting-09-23-2014-522
END:VEVENT

END:VCALENDAR
