BEGIN:VCALENDAR
VERSION:2.0
PRODID:-//ChamberMaster//Event Calendar 2.0//EN
METHOD:PUBLISH
X-PUBLISHED-TTL:P3D
REFRESH-INTERVAL:P3D
CALSCALE:GREGORIAN
BEGIN:VEVENT
DTSTART:20140930T230000Z
DTEND:20141001T010000Z
X-MICROSOFT-CDO-ALLDAYEVENT:FALSE
SUMMARY:Town Meeting
DESCRIPTION:Learn more about the town's future it at a Munster Chamber of Commerce Town Meeting Tuesday\, September 30th at the Munster Public Library\, \n\n6 p.m. to 8  p.m. at the Munster Public Library\n\n \n\n Future of Munster\n\n\n\n Confirmed Participates (09/17)\n\nTown - John Reed\, Town Council\n\n\n\nSchool - Jeff Hendrix\, School Town of Munster\n\n\n\nRegion - Dennis Rittenmyer\, One Region\n\n\n\nBusiness - John Gorski\, Community Hospital\n\n\n\nFaith - Steve Conger\, Ridge United Methodist Church\n\n\n\nService - Dr. Lorin Brown\, Orthopedic Surgeon\n\n \n\nAdmission is Free\n\nOpen to the Public\n\nComplimentary refreshments and snacks will be provided.
X-ALT-DESC;FMTTYPE=text/html:<span style="font-size: 16px\;"><span style="font-family: verdana\;">Learn more about the town&rsquo\;s future it at a Munster Chamber of Commerce Town&nbsp\;Meeting Tuesday\, September 30th at the Munster Public Library\,&nbsp\;<br />\n6 p.m. to 8 &nbsp\;p.m. at the Munster Public Library<br />\n&nbsp\;<br />\n&bull\;Future of Munster<br />\n<br />\n<span style="color: rgb(31\, 73\, 125)\;">&bull\;</span>Confirmed&nbsp\;Participates (09/17)<br />\nTown - John Reed\, Town Council<br />\n<br />\nSchool - Jeff Hendrix\, School Town of Munster<br />\n<br />\nRegion - Dennis Rittenmyer\, One Region<br />\n<br />\nBusiness - John Gorski\, Community Hospital<br />\n<br />\nFaith - Steve Conger\, Ridge United Methodist Church<br />\n<br />\nService - Dr. Lorin Brown\, Orthopedic Surgeon<br />\n&nbsp\;<br />\nAdmission is Free<br />\nOpen to the Public<br />\nComplimentary refreshments and snacks will be provided.</span></span><br />\n&nbsp\;
LOCATION:Munster Branch Library 8701 Calumet Avenue Munster\, IN 46321 (219) 836-8450
UID:e.1835.481
SEQUENCE:3
DTSTAMP:20260420T012205Z
URL:https://members.munsterchamber.org/events/details/town-meeting-09-30-2014-481
END:VEVENT

END:VCALENDAR
