BEGIN:VCALENDAR
VERSION:2.0
PRODID:-//ChamberMaster//Event Calendar 2.0//EN
METHOD:PUBLISH
X-PUBLISHED-TTL:P3D
REFRESH-INTERVAL:P3D
CALSCALE:GREGORIAN
BEGIN:VEVENT
DTSTART:20150430T140000Z
DTEND:20150430T150000Z
X-MICROSOFT-CDO-ALLDAYEVENT:FALSE
SUMMARY:Touchdown Chili Cookoff Meeting
DESCRIPTION:Touchdown Chili Challenge Committee Meeting
X-ALT-DESC;FMTTYPE=text/html:Touchdown Chili Challenge Committee Meeting&nbsp\;&nbsp\;&nbsp\;&nbsp\;&nbsp\;&nbsp\;&nbsp\;&nbsp\;
LOCATION:Munster Chamber of Commerce Please RSVP to help determine the location
UID:e.1835.2664
SEQUENCE:3
DTSTAMP:20260419T134345Z
URL:https://members.munsterchamber.org/events/details/touchdown-chili-cookoff-meeting-04-30-2015-2664
END:VEVENT

END:VCALENDAR
