BEGIN:VCALENDAR
VERSION:2.0
PRODID:-//ChamberMaster//Event Calendar 2.0//EN
METHOD:PUBLISH
X-PUBLISHED-TTL:P3D
REFRESH-INTERVAL:P3D
CALSCALE:GREGORIAN
BEGIN:VEVENT
DTSTART:20140827T140000Z
DTEND:20140827T150000Z
X-MICROSOFT-CDO-ALLDAYEVENT:FALSE
SUMMARY:Touchdown Chili Committee Meeting
DESCRIPTION:Committee Meeting to update Chili Challnge
X-ALT-DESC;FMTTYPE=text/html:Committee Meeting to update Chili Challnge
LOCATION:Wednesday\, August 28 9 am Chamber office
UID:e.1835.1524
SEQUENCE:3
DTSTAMP:20260420T030843Z
URL:https://members.munsterchamber.org/events/details/touchdown-chili-committee-meeting-08-27-2014-1524
END:VEVENT

END:VCALENDAR
