BEGIN:VCALENDAR
VERSION:2.0
PRODID:-//ChamberMaster//Event Calendar 2.0//EN
METHOD:PUBLISH
X-PUBLISHED-TTL:P3D
REFRESH-INTERVAL:P3D
CALSCALE:GREGORIAN
BEGIN:VEVENT
DTSTART:20141006T230000Z
DTEND:20141007T020000Z
X-MICROSOFT-CDO-ALLDAYEVENT:FALSE
SUMMARY:Touchdown Chili Challnge - Second Annual
DESCRIPTION:Second Annual Touchdown Chili Challenge\n\nPrizes awarded to:  Judge's Choice Award\,\n\nPeople's Choice Award\, Best Decorated Booth
X-ALT-DESC;FMTTYPE=text/html:<span style="font-size: 14px\;"><span style="font-family: arial\;">Second Annual Touchdown Chili Challenge<br />\nPrizes awarded to: &nbsp\;Judge&#39\;s Choice Award\,<br />\nPeople&#39\;s Choice Award\, <span style="color: black\;">Best Decorated Booth</span></span></span><br />\n&nbsp\;
LOCATION:Center for Visual and Performing Arts 1040 Ridge Road Munster\, IN 46321
UID:e.1835.465
SEQUENCE:3
DTSTAMP:20260419T232753Z
URL:https://members.munsterchamber.org/events/details/touchdown-chili-challnge-second-annual-10-06-2014-465
END:VEVENT

END:VCALENDAR
