BEGIN:VCALENDAR
VERSION:2.0
PRODID:-//ChamberMaster//Event Calendar 2.0//EN
METHOD:PUBLISH
X-PUBLISHED-TTL:P3D
REFRESH-INTERVAL:P3D
CALSCALE:GREGORIAN
BEGIN:VEVENT
DTSTART:20140723T140000Z
DTEND:20140724T033000Z
X-MICROSOFT-CDO-ALLDAYEVENT:FALSE
SUMMARY:Touchdown Chili Challegne Committee Meeting
DESCRIPTION:Touchdown Chili Challenge Committee Meeting\n\nLet's see who has signed up to cook\, how can we sell tickets and promote this event and get those donation committments.
X-ALT-DESC;FMTTYPE=text/html:Touchdown Chili Challenge Committee Meeting<br />\nLet&#39\;s see who has signed up to cook\, how can we sell tickets and promote this event and get those donation committments.
LOCATION:Strack and Van Til Conference Room 12 Ridge Road Munster\, IN
UID:e.1835.519
SEQUENCE:3
DTSTAMP:20260420T045633Z
URL:https://members.munsterchamber.org/events/details/touchdown-chili-challegne-committee-meeting-07-23-2014-519
END:VEVENT

END:VCALENDAR
