BEGIN:VCALENDAR
VERSION:2.0
PRODID:-//ChamberMaster//Event Calendar 2.0//EN
METHOD:PUBLISH
X-PUBLISHED-TTL:P3D
REFRESH-INTERVAL:P3D
CALSCALE:GREGORIAN
BEGIN:VEVENT
DTSTART:20141011T010000Z
DTEND:20141011T034000Z
X-MICROSOFT-CDO-ALLDAYEVENT:FALSE
SUMMARY:Tom Byelick's TOMFOOLERY Fun Club
DESCRIPTION:Please join us on Friday\, October 10 at Langel's Pizza in Highland for an early autumn evening of Tomfoolery!!!\n\nComedians Maria Wojiechowski\, Marci (Theoneandonly) Deloney and Vince Acevedo will be joined by musical guests\, The Planetary Blues Band!! \n\n\n\nFALL INTO FOOLERY!!\n\n\n\nhttps://www.youtube.com/watch?v=OrjcdiywQPQ
X-ALT-DESC;FMTTYPE=text/html:<p><span style="font-family: georgia\,palatino\; font-size: medium\;">Please join us on Friday\, October 10 at Langel&#39\;s Pizza in Highland for an early autumn evening&nbsp\;of Tomfoolery!!!</span></p>\n\n<p><span style="font-family: georgia\,palatino\; font-size: medium\;">Comedians Maria Wojiechowski\, Marci (Theoneandonly) Deloney and Vince Acevedo will be joined by musical guests\, The Planetary Blues Band!!&nbsp\;<br />\n<br />\nFALL INTO FOOLERY!!<br />\n<br />\n<a href="https://www.youtube.com/watch?v=OrjcdiywQPQ">https://www.youtube.com/watch?v=OrjcdiywQPQ</a></span><br />\n<br />\n<br type="_moz" />\n&nbsp\;</p>\n
LOCATION:Langel's Pizzeria 2833 Highway Avenue Highland\, IN 46322
UID:e.1835.1527
SEQUENCE:3
DTSTAMP:20260419T232642Z
URL:https://members.munsterchamber.org/events/details/tom-byelick-s-tomfoolery-fun-club-10-10-2014-1527
END:VEVENT

END:VCALENDAR
