BEGIN:VCALENDAR
VERSION:2.0
PRODID:-//ChamberMaster//Event Calendar 2.0//EN
METHOD:PUBLISH
X-PUBLISHED-TTL:P3D
REFRESH-INTERVAL:P3D
CALSCALE:GREGORIAN
BEGIN:VEVENT
DTSTART:20150418T190000Z
DTEND:20150418T210000Z
X-MICROSOFT-CDO-ALLDAYEVENT:FALSE
SUMMARY:TIME FOR TEA
DESCRIPTION:SATURDAY\, APRIL 18\, 2015 ? TIME FOR TEA - 2:00 PM - The Salvation Army Women's Ministries at invites you to join them for a special afternoon of tea\, edible delights\, fellowship and musical entertainment! Tickets are $10.00 per person. All proceeds benefit The Salvation Army. To make a reservation\, please call The Salvation Army at (219) 838-0380 - Lt Betsy Clark
X-ALT-DESC;FMTTYPE=text/html:SATURDAY\, APRIL 18\, 2015 ? TIME FOR TEA - 2:00 PM - The Salvation Army Women&#39\;s Ministries at invites you to join them for a special afternoon of tea\, edible delights\, fellowship and musical entertainment! Tickets are $10.00 per person. All proceeds benefit The Salvation Army. To make a reservation\, please call The Salvation Army at (219) 838-0380 - Lt Betsy Clark
LOCATION:The Salvation Army 8225 Columbia Avenue\, Munster\, IN\, 46321
UID:e.1835.2654
SEQUENCE:3
DTSTAMP:20260419T133622Z
URL:https://members.munsterchamber.org/events/details/time-for-tea-04-18-2015-2654
END:VEVENT

END:VCALENDAR
