BEGIN:VCALENDAR
VERSION:2.0
PRODID:-//ChamberMaster//Event Calendar 2.0//EN
METHOD:PUBLISH
X-PUBLISHED-TTL:P3D
REFRESH-INTERVAL:P3D
CALSCALE:GREGORIAN
BEGIN:VEVENT
DTSTART:20141119T010000Z
DTEND:20141119T040000Z
X-MICROSOFT-CDO-ALLDAYEVENT:FALSE
SUMMARY:The TOMFOOLERY Show: Open Mic Night!
DESCRIPTION:Calling all performers - aspiring comedians\, musicians and other talented individuals - to perform at the Tomfoolery Fun Club/Studio 659 Open Mic Night. Admission to the viewing public is free and beer and wine will be available.\n\n\n\nSign up: 6:30 PM\n\nShowtime: 7:00 PM\n\nWebsite: http://www.tomfooleryfunclub.com
X-ALT-DESC;FMTTYPE=text/html:<p>Calling all performers - aspiring comedians\, musicians and other talented individuals - to perform at the Tomfoolery Fun Club/Studio 659 Open Mic Night. Admission to the viewing public is free and beer and wine will be available.<br />\n<br />\nSign up: 6:30 PM<br />\nShowtime: 7:00 PM</p>\n\n<p class="website">Website: <a class="visit" href="http://www.tomfooleryfunclub.com/" rel="external">http://www.tomfooleryfunclub.com</a></p>\n
LOCATION:Studio 659 1413 119th Street Whiting\, IN
UID:e.1835.1550
SEQUENCE:3
DTSTAMP:20260419T214803Z
URL:https://members.munsterchamber.org/events/details/the-tomfoolery-show-open-mic-night-11-18-2014-1550
END:VEVENT

END:VCALENDAR
