BEGIN:VCALENDAR
VERSION:2.0
PRODID:-//ChamberMaster//Event Calendar 2.0//EN
METHOD:PUBLISH
X-PUBLISHED-TTL:P3D
REFRESH-INTERVAL:P3D
CALSCALE:GREGORIAN
BEGIN:VEVENT
DTSTART:20150215T020000Z
DTEND:20150215T043000Z
X-MICROSOFT-CDO-ALLDAYEVENT:FALSE
SUMMARY:The TOMFOOLERY Show\; Love Langel's Style!!
DESCRIPTION:Valentine's Day will be here soon and what better way to celebrate than with laughter and music? No date? No worries! Come alone or gather some friends! No pressure here let us worry about the entertaining!\n\nThe TOMFOOLERY Show once again returns to the "happy place" at Langel's Pizza / Rodney's Sports Bar in downtown Highland\, IN! We have a unique event planned with an entirely new lineup of very talented performers!!\n\nComedy veteran James Wesley Jackson will be joined by rising stars Jesnaira Baez\, Abby Vatterott and Jeff Arcuri! It is most certainly a diverse mix of some incredibly talented (and funny) comedians!!\n\nProviding the musical variety throughout the evening will be the fan favorite group of 1540!! Please join us on Valentine's Day\, February 14\, 2015 at Langel's Pizza / Rodney's Sports Bar in Highland\, IN.
X-ALT-DESC;FMTTYPE=text/html:<p><span style="font-family: calibri\; font-size: medium\;">Valentine&rsquo\;s Day will be here soon and what better way to celebrate than with laughter and music? No date? No worries! Come alone or gather some friends! No pressure here&hellip\;let us worry about the entertaining!</span></p>\n\n<p><span style="font-family: calibri\; font-size: medium\;"><strong>The TOMFOOLERY Show</strong> once again returns to the &ldquo\;happy place&rdquo\; at Langel&rsquo\;s Pizza / Rodney&#39\;s Sports Bar&nbsp\;in downtown Highland\, IN! We have a unique event planned with an entirely new lineup of very talented performers!!</span></p>\n\n<p><span style="font-family: calibri\; font-size: medium\;">Comedy veteran James Wesley Jackson will be joined by rising stars Jesnaira Baez\, Abby Vatterott and Jeff Arcuri! It is most certainly a diverse mix of some incredibly talented (and funny) comedians!!</span></p>\n\n<p><span style="font-family: calibri\; font-size: medium\;">Providing the musical variety throughout the evening will be the fan favorite group of 1540!! Please join us on Valentine&rsquo\;s Day\, February 14\, 2015 at Langel&rsquo\;s Pizza / Rodney&rsquo\;s Sports Bar in Highland\, IN.</span></p>\n
LOCATION:Langel's Pizza 2833 Highway Avenue Highland\, IN 46322
UID:e.1835.2599
SEQUENCE:3
DTSTAMP:20260419T165025Z
URL:https://members.munsterchamber.org/events/details/the-tomfoolery-show-love-langel-s-style-02-14-2015-2599
END:VEVENT

END:VCALENDAR
