BEGIN:VCALENDAR
VERSION:2.0
PRODID:-//ChamberMaster//Event Calendar 2.0//EN
METHOD:PUBLISH
X-PUBLISHED-TTL:P3D
REFRESH-INTERVAL:P3D
CALSCALE:GREGORIAN
BEGIN:VEVENT
DTSTART:20141130T020000Z
DTEND:20141130T040000Z
X-MICROSOFT-CDO-ALLDAYEVENT:FALSE
SUMMARY:The TOMFOOLERY Show: Let the Holidays Begin!
DESCRIPTION:The TOMFOOLERY Show moves to beautiful Ravisloe Country Club in Homewood\, Illinois!  This fun-filled comedy-based variety event will feature some of Chicagoland's funniest comedians and also some fine music to relax...and dance to!!!\n\nFunny lady and rising star comedian Gia Claire will be making her much anticipated debut on the TOMFOOLERY stage!!  Joining Gia will be the hilarious Archie Reimann as he brings one of Chicago's icons back to life in whimsical fashion!  This is not to be missed!!  Capping a side-splitting evening will be the hilarious\, edgy and charming (all at the same time!) Mona Aburmishan.  Mona returns to the TOMFOOLERY stage for another visit for one reason...POPULAR DEMAND!!!\n\nProviding the musical variety will be DJ Rex Albrecht\, who will keep things moving before\, during and after the comedy!!\n\nThe beautiful and elegant clubhouse at the historic Ravisloe County Club is an absolutely gorgeous venue!  Please join us for what is surely to be a spectacular evening of fun!!\n\nDoors open at 7:00 PM and the comedy begins at 8:00 PM!  Cash bar is available!!\n\n\n\nhttp://www.eventbrite.com/e/the-tomfoolery-show-let-the-holidays-begin-tickets-14180226439?aff=eac2
X-ALT-DESC;FMTTYPE=text/html:<p><span style="font-family: arial\,helvetica\,sans-serif\; font-size: large\;">The TOMFOOLERY Show moves to beautiful Ravisloe Country Club in Homewood\, Illinois!&nbsp\; This fun-filled comedy-based variety event will feature some of&nbsp\;Chicagoland&#39\;s funniest comedians and also some fine music to relax...and dance to!!!</span></p>\n\n<p><span style="font-family: arial\,helvetica\,sans-serif\; font-size: large\;">Funny lady and rising star comedian&nbsp\;Gia Claire&nbsp\;will be making her much anticipated debut on the TOMFOOLERY stage!!&nbsp\; Joining Gia will be the hilarious Archie Reimann as he&nbsp\;brings one of Chicago&#39\;s icons back to life in whimsical fashion!&nbsp\; This is not to be missed!!&nbsp\; Capping a side-splitting evening will&nbsp\;be the&nbsp\;hilarious\, edgy and charming (all at the same time!) Mona Aburmishan.&nbsp\; Mona returns to the TOMFOOLERY stage for another visit for one reason...POPULAR DEMAND!!!</span></p>\n\n<p><span style="font-family: arial\,helvetica\,sans-serif\; font-size: large\;">Providing the musical variety will be DJ Rex Albrecht\, who will keep things moving before\, during and after the comedy!!</span></p>\n\n<p><span style="font-family: arial\,helvetica\,sans-serif\; font-size: large\;">The beautiful and&nbsp\;elegant clubhouse&nbsp\;at the historic Ravisloe County Club is an absolutely gorgeous venue!&nbsp\; Please join us for what is surely to be a spectacular evening of fun!!</span></p>\n\n<p><span style="font-family: arial\,helvetica\,sans-serif\; font-size: large\;">Doors open at 7:00 PM and the comedy begins at 8:00 PM!&nbsp\; Cash bar is available!!<br />\n<br />\n<a href="http://www.eventbrite.com/e/the-tomfoolery-show-let-the-holidays-begin-tickets-14180226439?aff=eac2">http://www.eventbrite.com/e/the-tomfoolery-show-let-the-holidays-begin-tickets-14180226439?aff=eac2</a></span><br type="_moz" />\n&nbsp\;</p>\n
LOCATION:Ravisloe Country Club 18231 S Park Avenue Homewood\, IL 60430
UID:e.1835.1551
SEQUENCE:3
DTSTAMP:20260419T214712Z
URL:https://members.munsterchamber.org/events/details/the-tomfoolery-show-let-the-holidays-begin-11-29-2014-1551
END:VEVENT

END:VCALENDAR
