BEGIN:VCALENDAR
VERSION:2.0
PRODID:-//ChamberMaster//Event Calendar 2.0//EN
METHOD:PUBLISH
X-PUBLISHED-TTL:P3D
REFRESH-INTERVAL:P3D
CALSCALE:GREGORIAN
BEGIN:VEVENT
DTSTART:20141026T010000Z
DTEND:20141026T033000Z
X-MICROSOFT-CDO-ALLDAYEVENT:FALSE
SUMMARY:The TOMFOOLERY Show: Let the Good Times In!
DESCRIPTION:Please join The Tomfoolery Show as we return to Blue 82 Bar & Grill in St. John\, IN!\n\nA fun evening of comedy and music awaits.  Funny lady Soli Santos is joined by funny man Rudy Ruiz!!!  Also adding to festivities will be Abbaria\, a tandem of comedians who incorporate music into their comedy!!!\n\nThe Planetary Blues Band will provide the musical variety throughout the evening!!!!
X-ALT-DESC;FMTTYPE=text/html:<p><span style="font-family: arial\,helvetica\,sans-serif\; font-size: medium\;">Please join The Tomfoolery Show as we return to Blue 82 Bar &amp\; Grill in St. John\, IN!</span></p>\n\n<p><span style="font-family: arial\,helvetica\,sans-serif\; font-size: medium\;">A fun evening of&nbsp\;comedy and&nbsp\;music awaits.&nbsp\; Funny lady Soli Santos is joined by funny man Rudy Ruiz!!!&nbsp\; Also adding to festivities will be Abbaria\, a tandem of comedians who incorporate music into their comedy!!!</span></p>\n\n<p><span style="font-family: arial\,helvetica\,sans-serif\; font-size: medium\;">The Planetary Blues Band will provide the musical variety throughout the evening!!!!</span></p>\n
LOCATION:Blue 82 Bar & Grill 8209 Wicker Ave St John\, IN 46373
UID:e.1835.1547
SEQUENCE:3
DTSTAMP:20260419T233600Z
URL:https://members.munsterchamber.org/events/details/the-tomfoolery-show-let-the-good-times-in-10-25-2014-1547
END:VEVENT

END:VCALENDAR
