BEGIN:VCALENDAR
VERSION:2.0
PRODID:-//ChamberMaster//Event Calendar 2.0//EN
METHOD:PUBLISH
X-PUBLISHED-TTL:P3D
REFRESH-INTERVAL:P3D
CALSCALE:GREGORIAN
BEGIN:VEVENT
DTSTART:20150118T020000Z
DTEND:20150118T043000Z
X-MICROSOFT-CDO-ALLDAYEVENT:FALSE
SUMMARY:The TOMFOOLERY Show: Kick Start the NEW Year!
DESCRIPTION:SAVE the DATE!!\n\n\n\nThe TOMFOOLERY Show returns to beautiful Ravisloe Country Club in Homewood\, IL on Saturday\, January 17\, 2015!  What a great way to kick off the new year!!!  Comedy (acts TBA) combined with the swingin' jazz beat of Reggie Foster\, Jr.!! \n\n\n\nIt's going to be great!!!!
X-ALT-DESC;FMTTYPE=text/html:SAVE the DATE!!<br />\n<br />\nThe TOMFOOLERY Show returns to beautiful Ravisloe Country Club in Homewood\, IL on Saturday\, January 17\, 2015!&nbsp\; What a great way to kick off the new year!!!&nbsp\; Comedy (acts TBA) combined with the swingin&#39\; jazz beat of Reggie Foster\, Jr.!!&nbsp\;<br />\n<br />\nIt&#39\;s going to be great!!!!
LOCATION:Ravisloe Country Club 18231 S Park Avenue Homewood\, IL 60430
UID:e.1835.2597
SEQUENCE:3
DTSTAMP:20260419T181934Z
URL:https://members.munsterchamber.org/events/details/the-tomfoolery-show-kick-start-the-new-year-01-17-2015-2597
END:VEVENT

END:VCALENDAR
