BEGIN:VCALENDAR
VERSION:2.0
PRODID:-//ChamberMaster//Event Calendar 2.0//EN
METHOD:PUBLISH
X-PUBLISHED-TTL:P3D
REFRESH-INTERVAL:P3D
CALSCALE:GREGORIAN
BEGIN:VEVENT
DTSTART:20150418T003000Z
DTEND:20150418T031500Z
X-MICROSOFT-CDO-ALLDAYEVENT:FALSE
SUMMARY:The TOMFOOLERY Show\; Anniversary Extravaganza!!
DESCRIPTION:The TOMFOOLERY Show debuted at Langel's Pizza in Highland\, IN in March of 2014! A little over a year later\, TOMFOOLERY returns to familiar surroundings when it makes a stop at the friendly confines of Langel's Pizza / Rodney's Sports Bar! We will celebrate our anniversary in our 'happy place' with an Anniversary Extravaganza!!\n\nMaking his TOMFOOLERY debut on this very special night is newcomer Adam Gulley! Adam\, although making is NW Indiana debut\, is no stranger to the stage as he is a regular performer on the Chicago comedy circuit. His unique brand of observational humor delights audiences and keeps everyone in good spirits! \n\nMarci (Theoneandonly) Deloney is making quite a name for herself throughout NW Indiana! Throughout the past year\, Marci has become a staple in the local comedy scene and TOMFOOLERY fans consistently ask\, "When is Marci coming back?" Well she's back!!!\n\nFunny man Rudy Ruiz\, who looks like a tough guy but is really a delightful person\, also has developed a following throughout the area. Rudy is generously taking time away from his own comedy production held in Oak Park\, IL\, Charismatic Comedy\, to appear at TOMFOOLERY! His presence is always appreciated because he's one funny guy!!\n\nFollowing a surprise appearance at a recent TOMFOOLERY event\, veteran funny man "Sharkie" pays another visit to our stage because...when you got it....you got it!!\n\nThe combined talents of Jesse Hernandez\, Greg Guidotti and Mary Mystica form Bit of TimePeace! Bit of TimePeace has been a most familiar presence throughout NW Indiana for quite some time and their sound never gets old! They keep the beat before\, during and after the comedy!!\n\nAlso on the musical front\, prominent singer-composer-social activist Theo McClendon makes his debut on the TOMFOOLERY stage!\n\nJoin us on Friday\, April 17\, 2015 for The TOMFOOLERY Show\; Anniversary Extravaganza!! Doors open at 7:30 PM and tickets are only $20! This is a small room\, so PLEASE purchase tickets well in advance of the show date! \n\nwww.tomfooleryfunclub.com\n\nhttp://www.eventbrite.com/e/the-tomfoolery-show-anniversary-extravaganza-tickets-16011118687?aff=eac2
X-ALT-DESC;FMTTYPE=text/html:<p><span style="font-family: calibri\; font-size: medium\;">The TOMFOOLERY Show debuted at Langel&rsquo\;s Pizza in Highland\, IN in March of 2014! A little over a year later\, TOMFOOLERY returns to familiar surroundings when it makes a stop at the friendly confines of Langel&rsquo\;s Pizza / Rodney&rsquo\;s Sports Bar! We will celebrate our anniversary in our &lsquo\;happy place&rsquo\; with an Anniversary Extravaganza!!</span></p>\n\n<p><span style="font-family: calibri\; font-size: medium\;">Making his TOMFOOLERY debut on this very special night is newcomer Adam Gulley! Adam\, although making is NW Indiana debut\, is no stranger to the stage as he is a regular performer on the Chicago comedy circuit. His unique brand of observational humor delights audiences and keeps everyone in good spirits!</span><span style="font-family: calibri\; font-size: medium\;">&nbsp\;</span></p>\n\n<p><span style="font-family: calibri\; font-size: medium\;">Marci (Theoneandonly) Deloney is making quite a name for herself throughout NW Indiana! Throughout the past year\, Marci has become a staple in the local comedy scene and TOMFOOLERY fans consistently ask\, &ldquo\;When is Marci coming back?&rdquo\; Well&hellip\;she&rsquo\;s back!!!</span></p>\n\n<p><span style="font-family: calibri\; font-size: medium\;">Funny man Rudy Ruiz\, who looks like a tough guy but is really a delightful person\, also has developed a following throughout the area. Rudy is generously taking time away from his own comedy production held in Oak Park\, IL\, Charismatic Comedy\, to appear at TOMFOOLERY! His presence is always appreciated because he&rsquo\;s one funny guy!!</span></p>\n\n<p><span style="font-family: calibri\; font-size: medium\;">Following a surprise appearance at a recent TOMFOOLERY event\, veteran funny man &quot\;Sharkie&quot\; pays another visit to our stage because...when you got it....you got it!!</span></p>\n\n<p><span style="font-family: calibri\;"><span style="font-size: medium\;">The combined talents of Jesse Hernandez\, Greg Guidotti and Mary Mystica form Bit of TimePeace! Bit of TimePeace has been a most familiar presence throughout NW Indiana for quite some time and their sound never gets old! They keep the beat before\, during and after the comedy!!</span></span></p>\n\n<p><span style="font-family: calibri\;"><span style="font-size: medium\;">Also on the musical front\,&nbsp\;prominent&nbsp\;singer-composer-social activist Theo McClendon makes his debut on the TOMFOOLERY stage!</span></span></p>\n\n<p><span style="font-family: calibri\;"><span style="font-size: medium\;">Join us on Friday\, April 17\, 2015 for The TOMFOOLERY Show\; Anniversary Extravaganza!! Doors open at 7:30 PM and tickets are only $20! This is a small room\, so PLEASE purchase tickets well in advance of the show date! </span></span></p>\n\n<p><span style="font-family: calibri\;"><span style="font-size: medium\;"><a href="http://www.tomfooleryfunclub.com/" rel="nofollow">www.tomfooleryfunclub.com</a></span></span><br />\n<a href="http://www.eventbrite.com/e/the-tomfoolery-show-anniversary-extravaganza-tickets-16011118687?aff=eac2">http://www.eventbrite.com/e/the-tomfoolery-show-anniversary-extravaganza-tickets-16011118687?aff=eac2</a><br />\n&nbsp\;</p>\n
LOCATION:Langel's Pizza 2833 Highway Avenue Highland\, IN
UID:e.1835.2656
SEQUENCE:3
DTSTAMP:20260419T134324Z
URL:https://members.munsterchamber.org/events/details/the-tomfoolery-show-anniversary-extravaganza-04-17-2015-2656
END:VEVENT

END:VCALENDAR
