BEGIN:VCALENDAR
VERSION:2.0
PRODID:-//ChamberMaster//Event Calendar 2.0//EN
METHOD:PUBLISH
X-PUBLISHED-TTL:P3D
REFRESH-INTERVAL:P3D
CALSCALE:GREGORIAN
BEGIN:VEVENT
DTSTART:20160407T170000Z
DTEND:20160407T180000Z
X-MICROSOFT-CDO-ALLDAYEVENT:FALSE
SUMMARY:Thank You Lunch Committee Meeting
DESCRIPTION:Thank You committee Meeting
X-ALT-DESC;FMTTYPE=text/html:Thank You committee Meeting&nbsp\;&nbsp\;&nbsp\;&nbsp\;
LOCATION:Munster Chamber office Noon meeting\, feel free to bring your lunch
UID:e.1835.3249
SEQUENCE:3
DTSTAMP:20260421T141550Z
URL:https://members.munsterchamber.org/events/details/thank-you-lunch-committee-meeting-04-07-2016-3249
END:VEVENT

END:VCALENDAR
