BEGIN:VCALENDAR
VERSION:2.0
PRODID:-//ChamberMaster//Event Calendar 2.0//EN
METHOD:PUBLISH
X-PUBLISHED-TTL:P3D
REFRESH-INTERVAL:P3D
CALSCALE:GREGORIAN
BEGIN:VEVENT
DTSTART:20160218T180000Z
DTEND:20160218T190000Z
X-MICROSOFT-CDO-ALLDAYEVENT:FALSE
SUMMARY:Thank You Lunch Committee Meeting
DESCRIPTION:Planning meeting for the 2016 Thank You Luncheon\n\nApril 27\, 2016
X-ALT-DESC;FMTTYPE=text/html:Planning meeting for the 2016 Thank You Luncheon<br />\nApril 27\, 2016
LOCATION:Munster Chamber of Commerce Town Hall 1005 Ridge Road Munster\, IN
UID:e.1835.3242
SEQUENCE:3
DTSTAMP:20260421T164755Z
URL:https://members.munsterchamber.org/events/details/thank-you-lunch-committee-meeting-02-18-2016-3242
END:VEVENT

END:VCALENDAR
