BEGIN:VCALENDAR
VERSION:2.0
PRODID:-//ChamberMaster//Event Calendar 2.0//EN
METHOD:PUBLISH
X-PUBLISHED-TTL:P3D
REFRESH-INTERVAL:P3D
CALSCALE:GREGORIAN
BEGIN:VEVENT
DTSTART:20150215T013000Z
DTEND:20150215T050000Z
X-MICROSOFT-CDO-ALLDAYEVENT:FALSE
SUMMARY:SUPPER CLUB/The Tom Foolery Show
DESCRIPTION:SUPPER CLUB/The Tom Foolery Show
X-ALT-DESC;FMTTYPE=text/html:SUPPER CLUB/The Tom Foolery Show&nbsp\;&nbsp\;&nbsp\;
LOCATION:Langel's Pizza 2833 Highway Avenue Highland\, IN 46322
UID:e.1835.2645
SEQUENCE:3
DTSTAMP:20260419T163613Z
URL:https://members.munsterchamber.org/events/details/supper-club-the-tom-foolery-show-02-14-2015-2645
END:VEVENT

END:VCALENDAR
