BEGIN:VCALENDAR
VERSION:2.0
PRODID:-//ChamberMaster//Event Calendar 2.0//EN
METHOD:PUBLISH
X-PUBLISHED-TTL:P3D
REFRESH-INTERVAL:P3D
CALSCALE:GREGORIAN
BEGIN:VEVENT
DTSTART:20150121T193000Z
DTEND:20150121T203000Z
X-MICROSOFT-CDO-ALLDAYEVENT:FALSE
SUMMARY:Supper Club Committee Meeting
DESCRIPTION:The Supper Club is an  informal casual night out for chamber members to their friends and family.  We will try to support local businesses such as the theaters\, clubs\, community concerts etc .  \n\n \n\nTentative Schedule. \n\nSupper Club\n\nTomFoolery   02/14/15\n\nComedy Night -3/13/15\n\nSymphony   04/17/15\n\nBig Fish   05/28/15 7:30\n\nRailcats  Thursday\n\nWicker Park Concert\n\nTowle Theater 09/11/14\n\nAleFest - October
X-ALT-DESC;FMTTYPE=text/html:<span style="font-size: medium\;"><span style="font-family: calibri\;">The Supper Club is an &nbsp\;informal casual night out for chamber members to their friends and family.&nbsp\; We will try to support local businesses such as the theaters\, clubs\, community concerts etc&hellip\;.&nbsp\; </span></span><br />\n&nbsp\;<br />\n<span style="font-size: medium\;"><span style="font-family: calibri\;">Tentative Schedule. </span></span><br />\n<span style="font-size: medium\;"><span style="font-family: calibri\;">Supper Club</span></span><br />\n<span style="font-size: medium\;"><span style="font-family: calibri\;">TomFoolery &ndash\; 02/14/15</span></span><br />\n<span style="font-size: medium\;"><span style="font-family: calibri\;">Comedy Night -3/13/15</span></span><br />\n<span style="font-size: medium\;"><span style="font-family: calibri\;">Symphony &ndash\; 04/17/15</span></span><br />\n<span style="font-size: medium\;"><span style="font-family: calibri\;">Big Fish &ndash\; 05/28/15 7:30</span></span><br />\n<span style="font-size: medium\;"><span style="font-family: calibri\;">Railcats &ndash\;Thursday</span></span><br />\n<span style="font-size: medium\;"><span style="font-family: calibri\;">Wicker Park Concert</span></span><br />\n<span style="font-size: medium\;"><span style="font-family: calibri\;">Towle Theater 09/11/14</span></span><br />\n<span style="font-size: medium\;"><span style="font-family: calibri\;">AleFest - October</span></span><br />\n&nbsp\;
LOCATION:Munster Chamber Office 1040 Ridge Road Munster\, IN
UID:e.1835.2637
SEQUENCE:3
DTSTAMP:20260419T182016Z
URL:https://members.munsterchamber.org/events/details/supper-club-committee-meeting-01-21-2015-2637
END:VEVENT

END:VCALENDAR
