BEGIN:VCALENDAR
VERSION:2.0
PRODID:-//ChamberMaster//Event Calendar 2.0//EN
METHOD:PUBLISH
X-PUBLISHED-TTL:P3D
REFRESH-INTERVAL:P3D
CALSCALE:GREGORIAN
BEGIN:VEVENT
DTSTART:20150314T000000Z
DTEND:20150314T030000Z
X-MICROSOFT-CDO-ALLDAYEVENT:FALSE
SUMMARY:Supper Club - Comedy Night
DESCRIPTION:Comedy Night
X-ALT-DESC;FMTTYPE=text/html:Comedy Night&nbsp\;&nbsp\;&nbsp\;
LOCATION:Center for Visual and Performing Arts
UID:e.1835.2604
SEQUENCE:3
DTSTAMP:20260419T151823Z
URL:https://members.munsterchamber.org/events/details/supper-club-comedy-night-03-13-2015-2604
END:VEVENT

END:VCALENDAR
