BEGIN:VCALENDAR
VERSION:2.0
PRODID:-//ChamberMaster//Event Calendar 2.0//EN
METHOD:PUBLISH
X-PUBLISHED-TTL:P3D
REFRESH-INTERVAL:P3D
CALSCALE:GREGORIAN
BEGIN:VEVENT
DTSTART:20140517T130000Z
DTEND:20140517T200000Z
X-MICROSOFT-CDO-ALLDAYEVENT:FALSE
SUMMARY:Spring Flowers & Heirloom Tomato Sale
DESCRIPTION:The most beautiful collection of Florist-Quality geraniums\, impatiens\, a variety of planters\,\n\nand our own Heirloom tomato plants grown from seed!\n\n\n\nCall or email for delivery\n\nPRE-ORDERs over $100\n\n\n\nAll proceeds will benefit Planting Possibilities. Planting Possibilities is a registered 501(c)3\n\nwith the mission to provide job-skills\, employment & volunteer opportunities for\n\nadults with developmental disabilities in Lake COunty\, IN
X-ALT-DESC;FMTTYPE=text/html:<span style="font-size: 16px\;">The <strong>most beautiful</strong> collection of<strong> Florist-Quality geraniums</strong>\, impatiens\, a variety of<strong> planters</strong>\,<br />\nand our own <strong>Heirloom tomato plants</strong> grown from seed!<br />\n<br />\nCall or email for delivery<br />\nPRE-ORDERs over $100</span><br />\n<br />\n<span style="font-size: 14px\;">All proceeds will benefit Planting Possibilities. Planting Possibilities is a <strong>registered 501(c)3</strong><br />\nwith the mission to provide job-skills\, employment &amp\; volunteer opportunities for<br />\nadults with developmental disabilities in Lake COunty\, IN</span>
LOCATION:Sarkey's Florist 8944 Erie Street
UID:e.1835.484
SEQUENCE:3
DTSTAMP:20260420T075618Z
URL:https://members.munsterchamber.org/events/details/spring-flowers-heirloom-tomato-sale-05-17-2014-484
END:VEVENT

END:VCALENDAR
