BEGIN:VCALENDAR
VERSION:2.0
PRODID:-//ChamberMaster//Event Calendar 2.0//EN
METHOD:PUBLISH
X-PUBLISHED-TTL:P3D
REFRESH-INTERVAL:P3D
CALSCALE:GREGORIAN
BEGIN:VEVENT
DTSTART:20150211T163000Z
DTEND:20150211T200000Z
X-MICROSOFT-CDO-ALLDAYEVENT:FALSE
SUMMARY:Share the Love Luncheon
DESCRIPTION:The Cancer Resource Centre Presents\n\nThe Eighth Annual\n\nSHARE THE LOVE LUNCHEON
X-ALT-DESC;FMTTYPE=text/html:The Cancer Resource Centre Presents<br />\nThe Eighth Annual<br />\nSHARE THE LOVE LUNCHEON
LOCATION:The Center for Visual and Performing Arts 1040 Ridge Road Munster\, IN 46321
UID:e.1835.2646
SEQUENCE:3
DTSTAMP:20260419T170211Z
URL:https://members.munsterchamber.org/events/details/share-the-love-luncheon-02-11-2015-2646
END:VEVENT

END:VCALENDAR
