BEGIN:VCALENDAR
VERSION:2.0
PRODID:-//ChamberMaster//Event Calendar 2.0//EN
METHOD:PUBLISH
X-PUBLISHED-TTL:P3D
REFRESH-INTERVAL:P3D
CALSCALE:GREGORIAN
BEGIN:VEVENT
DTSTART:20140903T140000Z
DTEND:20140903T170000Z
X-MICROSOFT-CDO-ALLDAYEVENT:FALSE
SUMMARY:Second City Improv Based Training Workshop
DESCRIPTION:Munster Chamber of Commerce \n		\n		\n			Proudly Presents\n		\n		\n			The Second City Communications\n		\n		\n			Improv-Based Training Solutions\n		\n		\n			Improving Individual and Team Performance\n\n			 \n			\n				\n					\n						Two Sessions: \n\n						Wednesday\, September 3 and Wednesday\, November 5.  Register and pay for both sessions\, and we will feature  your logo on the MCOC Home Page\n\n						\n\n						 \n					\n					\n						Sponsor both sessions and your logo will be featured on the MCOC HomePage\n					\n					\n						\n\n						September Session:  \n\n						Sales Training and Client Services\n\n						\n\n						 \n					\n					\n						Seating is Limited\, Please Register Early
X-ALT-DESC;FMTTYPE=text/html:<table border="0" cellpadding="0" cellspacing="0" style="width: 628px\; border-collapse: collapse\;" width="628">\n	<tbody>\n		<tr height="28" style="height: 28px\;">\n			<td colspan="5" height="28" style="border: 0px black\; border-image: none\; width: 628px\; height: 28px\;"><span style="font-size: large\;"><span style="font-family: calibri\;">Munster Chamber of Commerce&nbsp\;</span></span></td>\n		</tr>\n		<tr height="28" style="height: 28px\;">\n			<td colspan="5" height="28" style="border: 0px black\; border-image: none\; height: 28px\;"><span style="font-size: large\;"><span style="font-family: calibri\;">Proudly Presents</span></span></td>\n		</tr>\n		<tr height="28" style="height: 28px\;">\n			<td colspan="5" height="28" style="border: 0px black\; border-image: none\; height: 28px\;"><span style="font-size: large\;"><span style="font-family: calibri\;">The Second City Communications</span></span></td>\n		</tr>\n		<tr height="28" style="height: 28px\;">\n			<td colspan="5" height="28" style="border: 0px black\; border-image: none\; height: 28px\;"><span style="font-size: large\;"><span style="font-family: calibri\;">Improv-Based Training Solutions</span></span></td>\n		</tr>\n		<tr height="25" style="height: 25px\;">\n			<td colspan="5" height="25" style="border: 0px black\; border-image: none\; height: 25px\;"><span style="font-size: large\;"><span style="font-family: calibri\;">Improving Individual and Team Performance</span></span><br />\n			&nbsp\;\n			<table border="0" cellpadding="0" cellspacing="0" style="width: 372px\; border-collapse: collapse\;" width="372">\n				<tbody>\n					<tr height="28" style="height: 28px\;">\n						<td height="28" style="border: 0px black\; border-image: none\; width: 372px\; height: 28px\;"><span style="font-size: large\;"><span style="font-family: calibri\;">Two Sessions:&nbsp\;<br />\n						Wednesday\, September 3 and Wednesday\, November 5.&nbsp\; Register and pay for both sessions\, and we will feature&nbsp\; your logo on the MCOC Home Page</span></span><br />\n						<br />\n						&nbsp\;</td>\n					</tr>\n					<tr height="28" style="height: 28px\;">\n						<td height="28" style="border: 0px black\; border-image: none\; height: 28px\;"><span style="font-size: large\;"><span style="font-family: calibri\;">Sponsor both sessions and your logo will be featured on the MCOC HomePage</span></span></td>\n					</tr>\n					<tr height="28" style="height: 28px\;">\n						<td height="28" style="border: 0px black\; border-image: none\; height: 28px\;"><br />\n						<span style="font-size: large\;"><span style="font-family: calibri\;">September Session:&nbsp\;&nbsp\;<br />\n						Sales Training and Client Services</span></span><br />\n						<br />\n						&nbsp\;</td>\n					</tr>\n					<tr height="28" style="height: 28px\;">\n						<td height="28" style="border: 0px black\; border-image: none\; height: 28px\;"><span style="font-size: large\;"><span style="font-family: calibri\;">Seating is Limited\, Please Register Early</span></span></td>\n					</tr>\n				</tbody>\n				<colgroup>\n					<col style="width: 372px\;" />\n				</colgroup>\n			</table>\n			<br />\n			&nbsp\;</td>\n		</tr>\n	</tbody>\n	<colgroup>\n		<col style="width: 372px\;" />\n		<col span="4" style="width: 64px\;" />\n	</colgroup>\n</table>\n
LOCATION:Center for Visual and Performing Arts 1040 Ridge Road Munster IN
UID:e.1835.482
SEQUENCE:3
DTSTAMP:20260420T011750Z
URL:https://members.munsterchamber.org/events/details/second-city-improv-based-training-workshop-09-03-2014-482
END:VEVENT

END:VCALENDAR
