BEGIN:VCALENDAR
VERSION:2.0
PRODID:-//ChamberMaster//Event Calendar 2.0//EN
METHOD:PUBLISH
X-PUBLISHED-TTL:P3D
REFRESH-INTERVAL:P3D
CALSCALE:GREGORIAN
BEGIN:VEVENT
DTSTART:20160505T203000Z
DTEND:20160505T220000Z
X-MICROSOFT-CDO-ALLDAYEVENT:FALSE
SUMMARY:SCORE Home Business Start Up
DESCRIPTION:Click to view and register:\n\n\n\nhttp://events.r20.constantcontact.com/register/event?oeidk=a07ec94egj4e17e2fe3&llr=hnwty5eab
X-ALT-DESC;FMTTYPE=text/html:<a href="http://events.r20.constantcontact.com/register/event?oeidk=a07ec94egj4e17e2fe3&amp\;llr=hnwty5eab">Click to view and register:<br />\n<br />\nhttp://events.r20.constantcontact.com/register/event?oeidk=a07ec94egj4e17e2fe3&amp\;llr=hnwty5eab</a>
LOCATION:Hammond Library presented by: Bill Herring
UID:e.1835.3257
SEQUENCE:3
DTSTAMP:20260421T130152Z
URL:https://members.munsterchamber.org/events/details/score-home-business-start-up-05-05-2016-3257
END:VEVENT

END:VCALENDAR
