BEGIN:VCALENDAR
VERSION:2.0
PRODID:-//ChamberMaster//Event Calendar 2.0//EN
METHOD:PUBLISH
X-PUBLISHED-TTL:P3D
REFRESH-INTERVAL:P3D
CALSCALE:GREGORIAN
BEGIN:VEVENT
DTSTART:20150414T150000Z
DTEND:20150414T160000Z
X-MICROSOFT-CDO-ALLDAYEVENT:FALSE
SUMMARY:SCORE committee meeting
DESCRIPTION:The Score committee will be meeting to Tuesday morning in the Munster Chamber office.  Quite a bit has come together in the last two weeks and we are interested in sharing the progress that has been made and the plans for the future.
X-ALT-DESC;FMTTYPE=text/html:The Score committee will be meeting to Tuesday morning in the Munster Chamber office.&nbsp\; Quite a bit has come together in the last two weeks and we are interested in sharing the progress that has been made and the plans for the future.
LOCATION:Munster Chamber Office
UID:e.1835.2662
SEQUENCE:3
DTSTAMP:20260419T134438Z
URL:https://members.munsterchamber.org/events/details/score-committee-meeting-04-14-2015-2662
END:VEVENT

END:VCALENDAR
