BEGIN:VCALENDAR
VERSION:2.0
PRODID:-//ChamberMaster//Event Calendar 2.0//EN
METHOD:PUBLISH
X-PUBLISHED-TTL:P3D
REFRESH-INTERVAL:P3D
CALSCALE:GREGORIAN
BEGIN:VEVENT
DTSTART:20150327T150000Z
DTEND:20150327T160000Z
X-MICROSOFT-CDO-ALLDAYEVENT:FALSE
SUMMARY:Score Committee Meeting
DESCRIPTION:The objective of the meeting is:\n\nVolunteer recruitment\n\n        Identify good volunteer candidates\n\n        Determine how to reach out to volunteers\n\n        Review SCORE power point
X-ALT-DESC;FMTTYPE=text/html:<font color="#000000" size="3">The objective of the meeting is:<br />\nVolunteer recruitment</font><br />\n&nbsp\;&nbsp\;&nbsp\;&nbsp\;&nbsp\;&nbsp\;&nbsp\;&nbsp\;Identify&nbsp\;good volunteer candidates<br />\n&nbsp\;&nbsp\;&nbsp\;&nbsp\;&nbsp\;&nbsp\;&nbsp\;&nbsp\;Determine how to reach out to volunteers<br />\n&nbsp\;&nbsp\;&nbsp\;&nbsp\;&nbsp\;&nbsp\;&nbsp\;&nbsp\;Review SCORE power point
LOCATION:Munster Chamber of Commerce Office - Lower Level
UID:e.1835.2644
SEQUENCE:3
DTSTAMP:20260419T150411Z
URL:https://members.munsterchamber.org/events/details/score-committee-meeting-03-27-2015-2644
END:VEVENT

END:VCALENDAR
