BEGIN:VCALENDAR
VERSION:2.0
PRODID:-//ChamberMaster//Event Calendar 2.0//EN
METHOD:PUBLISH
X-PUBLISHED-TTL:P3D
REFRESH-INTERVAL:P3D
CALSCALE:GREGORIAN
BEGIN:VEVENT
DTSTART:20160419T130000Z
DTEND:20160419T150000Z
X-MICROSOFT-CDO-ALLDAYEVENT:FALSE
SUMMARY:SCORE Breakfast with Town Manager
DESCRIPTION:SCORE Services Munster Satellite Office\n\nCenter for Visual and Performing Arts\n\n1040 Ridge Road\n\nMunster\, IN
X-ALT-DESC;FMTTYPE=text/html:SCORE Services Munster Satellite Office<br />\nCenter for Visual and Performing Arts<br />\n1040 Ridge Road<br />\nMunster\, IN
LOCATION:Special Event Breakfast SBA representative Sharon Harvey and Northwest ISBDC director Lorri Feldt are both planning to attend the April 19th. They will address current programs\, services and funding for new and existing businesses. Munster Town Manager\, Dustin Anderson will discus what makes this region\, specifically Munster so appealing to business.
UID:e.1835.3096
SEQUENCE:3
DTSTAMP:20260421T141253Z
URL:https://members.munsterchamber.org/events/details/score-breakfast-with-town-manager-04-19-2016-3096
END:VEVENT

END:VCALENDAR
