BEGIN:VCALENDAR
VERSION:2.0
PRODID:-//ChamberMaster//Event Calendar 2.0//EN
METHOD:PUBLISH
X-PUBLISHED-TTL:P3D
REFRESH-INTERVAL:P3D
CALSCALE:GREGORIAN
BEGIN:VEVENT
DTSTART:20160315T170000Z
DTEND:20160315T180000Z
X-MICROSOFT-CDO-ALLDAYEVENT:FALSE
SUMMARY:SCORE
DESCRIPTION:SCORE Services Munster Satellite Office\n\n\n\nWHAT THE @#  ? PROTECTING YOUR INTELLECTUAL PROPERTY \n\nCopyrights\, patents and trade secrets explained\n\nPresented by:  Cori Mathis and Bill Herring
X-ALT-DESC;FMTTYPE=text/html:<span style="font-size:12px\;"><span style="font-family: arial\;">SCORE Services Munster Satellite Office<br />\n<br />\nWHAT THE @#&trade\;&copy\;? PROTECTING YOUR INTELLECTUAL PROPERTY&nbsp\;<br />\nCopyrights\, patents and trade secrets explained<br />\nPresented by:&nbsp\; Cori Mathis and Bill Herring</span></span>
LOCATION:Munster Town Hall Conference Room "A" (through the front entrance to the left) 1005 Ridge Road Munster\, IN 46321
UID:e.1835.3095
SEQUENCE:3
DTSTAMP:20260421T152337Z
URL:https://members.munsterchamber.org/events/details/score-03-15-2016-3095
END:VEVENT

END:VCALENDAR
