BEGIN:VCALENDAR
VERSION:2.0
PRODID:-//ChamberMaster//Event Calendar 2.0//EN
METHOD:PUBLISH
X-PUBLISHED-TTL:P3D
REFRESH-INTERVAL:P3D
CALSCALE:GREGORIAN
BEGIN:VEVENT
DTSTART:20160119T190000Z
DTEND:20160119T213000Z
X-MICROSOFT-CDO-ALLDAYEVENT:FALSE
SUMMARY:SCORE
DESCRIPTION:SCORE Services Munster Satellite Office
X-ALT-DESC;FMTTYPE=text/html:SCORE Services Munster Satellite Office
LOCATION:1040 Ridge Road Munster\, IN 46321
UID:e.1835.3093
SEQUENCE:3
DTSTAMP:20260421T180209Z
URL:https://members.munsterchamber.org/events/details/score-01-19-2016-3093
END:VEVENT

END:VCALENDAR
