BEGIN:VCALENDAR
VERSION:2.0
PRODID:-//ChamberMaster//Event Calendar 2.0//EN
METHOD:PUBLISH
X-PUBLISHED-TTL:P3D
REFRESH-INTERVAL:P3D
CALSCALE:GREGORIAN
BEGIN:VEVENT
DTSTART:20160418T170000Z
DTEND:20160418T180000Z
X-MICROSOFT-CDO-ALLDAYEVENT:FALSE
SUMMARY:Scholarship Committee Meeting - review applications
DESCRIPTION:Please submit your scores on or before April 15 so we can tally the numbers and have the top contenders identified. \n\n\n\nMeeting to review applications and select recipient.\n\n\n\nIf you are unable to review applications\, please let us know.
X-ALT-DESC;FMTTYPE=text/html:Please submit your scores on or before April 15 so we can tally the numbers and have the top contenders identified.&nbsp\;<br />\n<br />\nMeeting to review applications and select recipient.<br />\n<br />\nIf you are unable to review applications\, please let us know.&nbsp\;
LOCATION:Munster Chamber of Commerce Office Munster Town Hall 1005 Ridge Road Munster\, IN
UID:e.1835.3255
SEQUENCE:3
DTSTAMP:20260421T142828Z
URL:https://members.munsterchamber.org/events/details/scholarship-committee-meeting-review-applications-04-18-2016-3255
END:VEVENT

END:VCALENDAR
