BEGIN:VCALENDAR
VERSION:2.0
PRODID:-//ChamberMaster//Event Calendar 2.0//EN
METHOD:PUBLISH
X-PUBLISHED-TTL:P3D
REFRESH-INTERVAL:P3D
CALSCALE:GREGORIAN
BEGIN:VEVENT
DTSTART:20150113T150000Z
DTEND:20150114T040000Z
X-MICROSOFT-CDO-ALLDAYEVENT:FALSE
SUMMARY:Scholarship Committee Meeting
DESCRIPTION:Scholarship Committee\n\nWe would like to review the application\, evaluation process and the award.  It has been suggested to perhaps present a laptop instead of a cash award.
X-ALT-DESC;FMTTYPE=text/html:Scholarship Committee<br />\n<span style="font-family: calibri\,sans-serif\;"><span style="color: rgb(31\, 73\, 125)\;"><span style="font-size: medium\;">We would like to review the application\, evaluation process and the award.&nbsp\; It has been suggested to perhaps present a laptop instead of a cash award.&nbsp\; </span></span></span><br />\n&nbsp\;
LOCATION:Munster Chamber Office 1040 Ridge Road Munster
UID:e.1835.2632
SEQUENCE:3
DTSTAMP:20260419T181753Z
URL:https://members.munsterchamber.org/events/details/scholarship-committee-meeting-01-13-2015-2632
END:VEVENT

END:VCALENDAR
