BEGIN:VCALENDAR
VERSION:2.0
PRODID:-//ChamberMaster//Event Calendar 2.0//EN
METHOD:PUBLISH
X-PUBLISHED-TTL:P3D
REFRESH-INTERVAL:P3D
CALSCALE:GREGORIAN
BEGIN:VEVENT
DTSTART:20140806T230000Z
DTEND:20140807T040000Z
X-MICROSOFT-CDO-ALLDAYEVENT:FALSE
SUMMARY:Schmooze Cruise 2014
DESCRIPTION:Cruise the Chicago River and Lake Michigan aboard the Summer of George.  \n\nEnjoy the fireworks at Navy Pier.  \n\nIncludes Light Refreshments\n\nBeer\, wine and pretzels compliments of Strack and VanTil.  \n\nD.J music compliments of Trimboli Chiropractic.  \n\nCash Bar**Door Prizes**50/50 Raffle
X-ALT-DESC;FMTTYPE=text/html:<p _mce_style="text-align: center\; margin-top: 0px\; margin-bottom: 0px\;" align="center" style="text-align: center\; margin-top: 0px\; margin-bottom: 0px\;"><span _mce_style="color: #000000\;" style="color: rgb(0\, 0\, 0)\;">Cruise the Chicago River and Lake Michigan aboard the Summer of George.&nbsp\; </span></p>\n\n<p _mce_style="text-align: center\; margin-top: 0px\; margin-bottom: 0px\;" align="center" style="text-align: center\; margin-top: 0px\; margin-bottom: 0px\;"><span _mce_style="color: #000000\;" style="color: rgb(0\, 0\, 0)\;">Enjoy the fireworks at Navy Pier.&nbsp\; </span></p>\n\n<p _mce_style="text-align: center\; margin-top: 0px\; margin-bottom: 0px\;" align="center" style="text-align: center\; margin-top: 0px\; margin-bottom: 0px\;"><span _mce_style="color: #000000\;" style="color: rgb(0\, 0\, 0)\;">Includes Light Refreshments</span></p>\n\n<p _mce_style="text-align: center\; margin-top: 0px\; margin-bottom: 0px\;" align="center" style="text-align: center\; margin-top: 0px\; margin-bottom: 0px\;"><span _mce_style="color: #000000\;" style="color: rgb(0\, 0\, 0)\;">Beer\, wine and pretzels compliments of Strack and VanTil.&nbsp\;&nbsp\;</span></p>\n\n<p _mce_style="text-align: center\; margin-top: 0px\; margin-bottom: 0px\;" align="center" style="text-align: center\; margin-top: 0px\; margin-bottom: 0px\;"><span _mce_style="color: #000000\;" style="color: rgb(0\, 0\, 0)\;">D.J music compliments of Trimboli Chiropractic.&nbsp\; </span></p>\n\n<p _mce_style="text-align: center\; margin-top: 0px\; margin-bottom: 0px\;" align="center" style="text-align: center\; margin-top: 0px\; margin-bottom: 0px\;"><span _mce_style="color: #000000\;" style="color: rgb(0\, 0\, 0)\;">Cash Bar**Door Prizes**50/50 Raffle&nbsp\;&nbsp\;</span></p>\n
LOCATION:River City Marina 800 S. Wells Street Chicago\, IL
UID:e.1835.460
SEQUENCE:3
DTSTAMP:20260420T024753Z
URL:https://members.munsterchamber.org/events/details/schmooze-cruise-2014-08-06-2014-460
END:VEVENT

END:VCALENDAR
