BEGIN:VCALENDAR
VERSION:2.0
PRODID:-//ChamberMaster//Event Calendar 2.0//EN
METHOD:PUBLISH
X-PUBLISHED-TTL:P3D
REFRESH-INTERVAL:P3D
CALSCALE:GREGORIAN
BEGIN:VEVENT
DTSTART:20130801T004500Z
DTEND:20130801T033000Z
X-MICROSOFT-CDO-ALLDAYEVENT:FALSE
SUMMARY:Schmooze Cruise 2013
DESCRIPTION:Cruise the Chicago River and Lake Michigan aboard the Summer of George.  Enjoy the fireworks at Navy Pier.  Includes box meal\, cookie and a beverage.  Beer\, wine and pretzels compliments of Strack and Van Til.  Brownies compliments of It's Just Serendipity.  D.J music compliments of Trimboli Chiropractic.  Cash Bar**Door Prizes**50/50 Raffle  Optional coach bus transportation round trip from CVPA parking lot.
X-ALT-DESC;FMTTYPE=text/html:Cruise the Chicago River and Lake Michigan aboard the Summer of George.&nbsp\; Enjoy the fireworks at Navy Pier.&nbsp\; Includes box meal\, cookie and a beverage.&nbsp\; Beer\, wine and pretzels compliments of Strack and Van Til.&nbsp\; Brownies compliments of It&#39\;s Just Serendipity.&nbsp\; D.J music compliments of Trimboli Chiropractic.&nbsp\; Cash Bar**Door Prizes**50/50 Raffle&nbsp\;&nbsp\;Optional&nbsp\;coach bus transportation round trip from CVPA parking lot.&nbsp\;&nbsp\;&nbsp\;&nbsp\;&nbsp\;&nbsp\;
LOCATION:River City Marina 800 S. Wells Street Chicago\, IL Parking available across the street
UID:e.1835.2
SEQUENCE:3
DTSTAMP:20260420T204605Z
URL:https://members.munsterchamber.org/events/details/schmooze-cruise-2013-07-31-2013-2
END:VEVENT

END:VCALENDAR
