BEGIN:VCALENDAR
VERSION:2.0
PRODID:-//ChamberMaster//Event Calendar 2.0//EN
METHOD:PUBLISH
X-PUBLISHED-TTL:P3D
REFRESH-INTERVAL:P3D
CALSCALE:GREGORIAN
BEGIN:VEVENT
DTSTART:20150126T170000Z
DTEND:20150126T180000Z
X-MICROSOFT-CDO-ALLDAYEVENT:FALSE
SUMMARY:Running or not...... Shoes
DESCRIPTION:Ribbon Cutting\n\nRunning or Not..... Shoes and Allstate The Gutierrez Family Agency\n\n1824 - 45th\, Munster\, IN
X-ALT-DESC;FMTTYPE=text/html:Ribbon Cutting<br />\nRunning or Not..... Shoes and Allstate The Gutierrez Family Agency<br />\n1824 - 45th\, Munster\, IN
LOCATION:
UID:e.1835.2634
SEQUENCE:3
DTSTAMP:20260419T175915Z
URL:https://members.munsterchamber.org/events/details/running-or-not-shoes-01-26-2015-2634
END:VEVENT

END:VCALENDAR
