BEGIN:VCALENDAR
VERSION:2.0
PRODID:-//ChamberMaster//Event Calendar 2.0//EN
METHOD:PUBLISH
X-PUBLISHED-TTL:P3D
REFRESH-INTERVAL:P3D
CALSCALE:GREGORIAN
BEGIN:VEVENT
DTSTART:20150916T173000Z
DTEND:20150916T180000Z
X-MICROSOFT-CDO-ALLDAYEVENT:FALSE
SUMMARY:Ribbon Cutting Priority Fitness
DESCRIPTION:Ribbon Cutting at the new Priority Fitness location\n\n\n\nAnd they  are so excited to show you the beautiful new location!  \n\n\n\nNew address is\n\n9760 Indiana Parkway\, Munster\, IN\n\n\n\nSame phone number\n\n219-836-8330\n\nSame great trainers!\n\nSame fantastic service!\n\n\n\nStop in and see them just South of\n\nThree Floyds Brewing Company.
X-ALT-DESC;FMTTYPE=text/html:<u>Ribbon Cutting at the new Priority Fitness location</u><br />\n<br />\n<span style="color:black\;"><span style="font-family:arial\,sans-serif\;"><span style="font-size:10.5pt\;">And they&nbsp\; are so excited to show you the beautiful new location! &nbsp\;</span></span></span><br />\n<br />\n<span style="color:black\;"><span style="font-family:arial\,sans-serif\;"><span style="font-size:13.5pt\;">New address is<br />\n9760 Indiana Parkway\, Munster\, IN</span></span></span><br />\n<br />\n<span style="color:black\;"><span style="font-family:arial\,sans-serif\;"><span style="font-size:10.5pt\;">Same phone number<br />\n<strong><span style="font-family:arial\,sans-serif\;">219-836-8330</span></strong><br />\nSame great trainers!<br />\nSame fantastic service!<br />\n<br />\nStop in and see them just South of<br />\nThree Floyds Brewing Company. &nbsp\;</span></span></span><br />\n<br />\n&nbsp\;
LOCATION:9760 Indiana Parkway\, Munster\, IN
UID:e.1835.3024
SEQUENCE:3
DTSTAMP:20260421T232117Z
URL:https://members.munsterchamber.org/events/details/ribbon-cutting-priority-fitness-09-16-2015-3024
END:VEVENT

END:VCALENDAR
