BEGIN:VCALENDAR
VERSION:2.0
PRODID:-//ChamberMaster//Event Calendar 2.0//EN
METHOD:PUBLISH
X-PUBLISHED-TTL:P3D
REFRESH-INTERVAL:P3D
CALSCALE:GREGORIAN
BEGIN:VEVENT
DTSTART:20140602T150000Z
DTEND:20140603T033000Z
X-MICROSOFT-CDO-ALLDAYEVENT:FALSE
SUMMARY:Ribbon Cutting
DESCRIPTION:Welcome New Business\n\nMeatheads\n\n\n\nRibbon Cutting
X-ALT-DESC;FMTTYPE=text/html:Welcome New Business<br />\nMeatheads<br />\n<br />\nRibbon Cutting<br />\n&nbsp\;
LOCATION:Meatheads 9140 Calumet Avenue Munster\, IN 46321
UID:e.1835.509
SEQUENCE:3
DTSTAMP:20260420T062212Z
URL:https://members.munsterchamber.org/events/details/ribbon-cutting-06-02-2014-509
END:VEVENT

END:VCALENDAR
