BEGIN:VCALENDAR
VERSION:2.0
PRODID:-//ChamberMaster//Event Calendar 2.0//EN
METHOD:PUBLISH
X-PUBLISHED-TTL:P3D
REFRESH-INTERVAL:P3D
CALSCALE:GREGORIAN
BEGIN:VEVENT
DTSTART:20140424T220000Z
DTEND:20140425T000000Z
X-MICROSOFT-CDO-ALLDAYEVENT:FALSE
SUMMARY:Rapid Pest Control - Business After Hours
DESCRIPTION:Business After Hours and Ribbon Cutting  Event at Rapid Pest Control\n\n\n\nAll members and guests are invited
X-ALT-DESC;FMTTYPE=text/html:Business After Hours and Ribbon Cutting &nbsp\;Event at Rapid Pest Control<br />\n<br />\nAll members and guests are invited
LOCATION:32 Ridge Road Munster\, IN 46321
UID:e.1835.474
SEQUENCE:3
DTSTAMP:20260420T091045Z
URL:https://members.munsterchamber.org/events/details/rapid-pest-control-business-after-hours-04-24-2014-474
END:VEVENT

END:VCALENDAR
