BEGIN:VCALENDAR
VERSION:2.0
PRODID:-//ChamberMaster//Event Calendar 2.0//EN
METHOD:PUBLISH
X-PUBLISHED-TTL:P3D
REFRESH-INTERVAL:P3D
CALSCALE:GREGORIAN
BEGIN:VEVENT
DTSTART:20130626T223000Z
DTEND:20130627T030000Z
X-MICROSOFT-CDO-ALLDAYEVENT:FALSE
SUMMARY:Railcats Baseball Game
DESCRIPTION:Gary Railcats vs. Kansas City.  Pre-game picnic includes all-you-can-eat fried chicken\, hot dogs\, hamburgers\, baked beans\, potato salad\, pasta salad and cookies.  All-inclusive menu includes beer wine and soft drinks until the start of the game.
X-ALT-DESC;FMTTYPE=text/html:Gary Railcats vs. Kansas City.&nbsp\; Pre-game picnic includes all-you-can-eat fried chicken\, hot dogs\, hamburgers\, baked beans\, potato salad\, pasta salad and cookies.&nbsp\; All-inclusive menu includes beer wine and soft drinks until the start of the game.
LOCATION:U. S. Steel Yard One Stadium Plaza Gary\, IN 46402
UID:e.1835.1
SEQUENCE:3
DTSTAMP:20260420T224838Z
URL:https://members.munsterchamber.org/events/details/railcats-baseball-game-06-26-2013-1
END:VEVENT

END:VCALENDAR
