BEGIN:VCALENDAR
VERSION:2.0
PRODID:-//ChamberMaster//Event Calendar 2.0//EN
METHOD:PUBLISH
X-PUBLISHED-TTL:P3D
REFRESH-INTERVAL:P3D
CALSCALE:GREGORIAN
BEGIN:VEVENT
DTSTART:20140515T220000Z
DTEND:20140516T000000Z
X-MICROSOFT-CDO-ALLDAYEVENT:FALSE
SUMMARY:Popa Heating and Cooling Business After Hours
DESCRIPTION:Popa Heating and Cooling Business After Hours
X-ALT-DESC;FMTTYPE=text/html:Popa Heating and Cooling Business After Hours&nbsp\;&nbsp\;&nbsp\;
LOCATION:2643 Highway Avenue Highland\, IN 46321
UID:e.1835.466
SEQUENCE:3
DTSTAMP:20260420T075531Z
URL:https://members.munsterchamber.org/events/details/popa-heating-and-cooling-business-after-hours-05-15-2014-466
END:VEVENT

END:VCALENDAR
