BEGIN:VCALENDAR
VERSION:2.0
PRODID:-//ChamberMaster//Event Calendar 2.0//EN
METHOD:PUBLISH
X-PUBLISHED-TTL:P3D
REFRESH-INTERVAL:P3D
CALSCALE:GREGORIAN
BEGIN:VEVENT
DTSTART:20140212T060500Z
DTEND:20140212T180000Z
X-MICROSOFT-CDO-ALLDAYEVENT:FALSE
SUMMARY:NWIGIVES - Planting Possibilities 2000 Tomato Project
DESCRIPTION:NWIGIVES - 2000 Tomato Project\n\n\n\nPlanting Possibilities is participating in the NWIgives Day of Giving fundraiser coordinated by the Legacy Foundation and LAUW\, and administered through Razoo crowd funding. This is a totally online fundraising event\, driven by social media outlets like Facebook\, Twitter\, and email. Our goal is to raise $2000 to fund our 2000 Tomato project in the 24 hour period from 12:01AM until midnight on February 12.\n\n\n\nWe are trying to get the word out with emails\, website\, fb and twitter postings with the intent of capitalizing on exposure opportunities\, as well as raising some $ with donations as well as $ prizes for participating organizations.\n\n\n\nYou can access our project directly at\n\nwww.razoo.com/story/2000tomatoes?referral%5fcode=share as well as thru links at www.plantingpossibilities.org/NWIgives\n\n\n\nPlease share the links\, the more people that know about PP and our mission\, all the better! Thanks so much!
X-ALT-DESC;FMTTYPE=text/html:<span style="font-family: arial\, sans-serif\; font-size: 13px\;"><span style="font-size:36px\;"><span style="color:#40e0d0\;"><em>NWIGIVES</em></span> - <span style="color:#ff0000\;"><span style="font-family:comic sans ms\;">2000 Tomato Project</span></span></span><br />\n<br />\nPlanting Possibilities is participating in the NWIgives Day of Giving fundraiser coordinated by the Legacy Foundation and LAUW\, and administered through Razoo crowd funding. This is a totally online fundraising event\, driven by social media outlets like Facebook\, Twitter\, and email. Our goal is to raise $2000 to fund our 2000 Tomato project in the 24 hour period from&nbsp\;</span><span class="aBn" data-term="goog_1865854168" style="border-bottom-width: 1px\; border-bottom-style: dashed\; border-bottom-color: rgb(204\, 204\, 204)\; position: relative\; top: -2px\; z-index: 0\; font-family: arial\, sans-serif\; font-size: 13px\;" tabindex="0"><span class="aQJ" style="position: relative\; top: 2px\; z-index: -1\;">12:01AM until midnight on February 12</span></span><span style="font-family: arial\, sans-serif\; font-size: 13px\;">.</span><br style="font-family: arial\, sans-serif\; font-size: 13px\;" />\n<br style="font-family: arial\, sans-serif\; font-size: 13px\;" />\n<span style="font-family: arial\, sans-serif\; font-size: 13px\;">We are trying to get the word out with emails\, website\, fb and twitter postings with the intent of capitalizing on exposure opportunities\, as well as raising some $ with donations as well as $ prizes for participating organizations.</span><br style="font-family: arial\, sans-serif\; font-size: 13px\;" />\n<br style="font-family: arial\, sans-serif\; font-size: 13px\;" />\n<span style="font-family: arial\, sans-serif\; font-size: 13px\;">You can access our project directly at</span><br style="font-family: arial\, sans-serif\; font-size: 13px\;" />\n<a href="http://www.razoo.com/story/2000tomatoes?referral%5fcode=share" style="color: rgb(17\, 85\, 204)\; font-family: arial\, sans-serif\; font-size: 13px\;" target="_blank">www.razoo.com/story/<wbr />2000tomatoes?referral%5fcode=<wbr />share</a><span style="font-family: arial\, sans-serif\; font-size: 13px\;">&nbsp\;as well as thru links at&nbsp\;</span><a href="http://www.plantingpossibilities.org/NWIgives" style="color: rgb(17\, 85\, 204)\; font-family: arial\, sans-serif\; font-size: 13px\;" target="_blank">www.plantingpossibilities.org/<wbr />NWIgives</a><br style="font-family: arial\, sans-serif\; font-size: 13px\;" />\n<br style="font-family: arial\, sans-serif\; font-size: 13px\;" />\n<span style="font-family: arial\, sans-serif\; font-size: 13px\;">Please share the links\, the more people that know about PP and our mission\, all the better! Thanks so much!</span>
LOCATION:
UID:e.1835.431
SEQUENCE:3
DTSTAMP:20260420T115643Z
URL:https://members.munsterchamber.org/events/details/nwigives-planting-possibilities-2000-tomato-project-02-12-2014-431
END:VEVENT

END:VCALENDAR
