BEGIN:VCALENDAR
VERSION:2.0
PRODID:-//ChamberMaster//Event Calendar 2.0//EN
METHOD:PUBLISH
X-PUBLISHED-TTL:P3D
REFRESH-INTERVAL:P3D
CALSCALE:GREGORIAN
BEGIN:VEVENT
DTSTART:20140914T190000Z
DTEND:20140914T210000Z
X-MICROSOFT-CDO-ALLDAYEVENT:FALSE
SUMMARY:Northwest Indiana Concert Association
DESCRIPTION:Northwest Indiana Concert Association presents\n\nPaul McDermand\n\nCaribbean/PopSteel Drum and Marimba Percussionist with Band
X-ALT-DESC;FMTTYPE=text/html:Northwest Indiana Concert Association presents<br />\nPaul McDermand<br />\nCaribbean/PopSteel Drum and Marimba Percussionist with Band
LOCATION:Munster High School Auditorium
UID:e.1835.486
SEQUENCE:3
DTSTAMP:20260420T012459Z
URL:https://members.munsterchamber.org/events/details/northwest-indiana-concert-association-09-14-2014-486
END:VEVENT

END:VCALENDAR
