BEGIN:VCALENDAR
VERSION:2.0
PRODID:-//ChamberMaster//Event Calendar 2.0//EN
METHOD:PUBLISH
X-PUBLISHED-TTL:P3D
REFRESH-INTERVAL:P3D
CALSCALE:GREGORIAN
BEGIN:VEVENT
DTSTART:20150924T140000Z
DTEND:20150924T150000Z
X-MICROSOFT-CDO-ALLDAYEVENT:FALSE
SUMMARY:Nominating Committee
DESCRIPTION:http://cloud.chambermaster.com/userfiles/UserFiles/chambers/1835/File/PreviewReport.pdf\n\n\n\nAbove link is to a complete membership listing.  Copies will be available to you in the morming. \n\n\n\nNominating Committee Meeting\n\n\n\nThe committee will fill board vacancies for 2016.  We would like to schedule a meeting on Thursday\, September 24th at  9 am in the Chamber office.
X-ALT-DESC;FMTTYPE=text/html:<br />\n<a href="http://cloud.chambermaster.com/userfiles/UserFiles/chambers/1835/File/PreviewReport.pdf">http://cloud.chambermaster.com/userfiles/UserFiles/chambers/1835/File/PreviewReport.pdf</a><br />\n<br />\nAbove link is to a complete membership listing.&nbsp\; Copies will be available to you in the morming.&nbsp\;<br />\n<br />\nNominating Committee Meeting<br />\n<br />\n<span style="font-size:small\;"><span style="font-family:calibri\;"><span style="font-size:11.0pt\;">The committee will fill board vacancies for 2016.&nbsp\; We would like to schedule a meeting on Thursday\, September 24<sup>th</sup> at&nbsp\; 9 am in the Chamber office.&nbsp\; </span></span></span><br />\n<br />\n<br />\n&nbsp\;
LOCATION:
UID:e.1835.3029
SEQUENCE:3
DTSTAMP:20260421T225941Z
URL:https://members.munsterchamber.org/events/details/nominating-committee-09-24-2015-3029
END:VEVENT

END:VCALENDAR
