BEGIN:VCALENDAR
VERSION:2.0
PRODID:-//ChamberMaster//Event Calendar 2.0//EN
METHOD:PUBLISH
X-PUBLISHED-TTL:P3D
REFRESH-INTERVAL:P3D
CALSCALE:GREGORIAN
BEGIN:VEVENT
DTSTART:20140430T130000Z
DTEND:20140430T140000Z
X-MICROSOFT-CDO-ALLDAYEVENT:FALSE
SUMMARY:New Board Member Breakfast
DESCRIPTION:Munster Chamber New Board Members are invited to learn about their role on the Munster Chamber Board
X-ALT-DESC;FMTTYPE=text/html:Munster Chamber New Board Members are invited to learn about their role on the Munster Chamber Board&nbsp\;&nbsp\;&nbsp\;&nbsp\;&nbsp\;&nbsp\;&nbsp\;&nbsp\;&nbsp\;&nbsp\;&nbsp\;
LOCATION:The Commander Restaurant 745 Ridge Road Munster\, IN 46321
UID:e.1835.473
SEQUENCE:3
DTSTAMP:20260420T090441Z
URL:https://members.munsterchamber.org/events/details/new-board-member-breakfast-04-30-2014-473
END:VEVENT

END:VCALENDAR
