BEGIN:VCALENDAR
VERSION:2.0
PRODID:-//ChamberMaster//Event Calendar 2.0//EN
METHOD:PUBLISH
X-PUBLISHED-TTL:P3D
REFRESH-INTERVAL:P3D
CALSCALE:GREGORIAN
BEGIN:VEVENT
DTSTART:20140409T124500Z
DTEND:20140409T194500Z
X-MICROSOFT-CDO-ALLDAYEVENT:FALSE
SUMMARY:MHS Reality Store
DESCRIPTION:MHS Reality Store
X-ALT-DESC;FMTTYPE=text/html:MHS Reality Store
LOCATION:Munster High School
UID:e.1835.467
SEQUENCE:3
DTSTAMP:20260420T090359Z
URL:https://members.munsterchamber.org/events/details/mhs-reality-store-04-09-2014-467
END:VEVENT

END:VCALENDAR
