BEGIN:VCALENDAR
VERSION:2.0
PRODID:-//ChamberMaster//Event Calendar 2.0//EN
METHOD:PUBLISH
X-PUBLISHED-TTL:P3D
REFRESH-INTERVAL:P3D
CALSCALE:GREGORIAN
BEGIN:VEVENT
DTSTART:20160127T150000Z
DTEND:20160127T160000Z
X-MICROSOFT-CDO-ALLDAYEVENT:FALSE
SUMMARY:Love Your Business Meeting
DESCRIPTION:Go over Love Your Business logistics with Mary Luptak from the Highland/Griffith Chamber of Commerce
X-ALT-DESC;FMTTYPE=text/html:Go over Love Your Business logistics with Mary Luptak from the Highland/Griffith Chamber of Commerce&nbsp\;&nbsp\;&nbsp\;&nbsp\;&nbsp\;&nbsp\;&nbsp\;&nbsp\;&nbsp\;&nbsp\;&nbsp\;&nbsp\;
LOCATION:Munster Chamber of Commerce Office Munster Town Hall 1005 Ridge Road Munster\, IN 46321
UID:e.1835.3240
SEQUENCE:3
DTSTAMP:20260421T180741Z
URL:https://members.munsterchamber.org/events/details/love-your-business-meeting-01-27-2016-3240
END:VEVENT

END:VCALENDAR
