BEGIN:VCALENDAR
VERSION:2.0
PRODID:-//ChamberMaster//Event Calendar 2.0//EN
METHOD:PUBLISH
X-PUBLISHED-TTL:P3D
REFRESH-INTERVAL:P3D
CALSCALE:GREGORIAN
BEGIN:VEVENT
DTSTART:20160211T160000Z
DTEND:20160211T200000Z
X-MICROSOFT-CDO-ALLDAYEVENT:FALSE
SUMMARY:Love Your Business 2016
DESCRIPTION:Love Your Business 2016
X-ALT-DESC;FMTTYPE=text/html:Love Your Business 2016<br />\n<a href="http://cloud.chambermaster.com/userfiles/UserFiles/chambers/1835/File/LYB2016Flyer.jpg">&nbsp\;</a><br />\n<a href="http://cloud.chambermaster.com/userfiles/UserFiles/chambers/1835/File/LoveYourBusinessFlyer2016.pdf">&nbsp\;</a>
LOCATION:Center for Visual and Performing Arts 1040 Ridge Road Munster\, IN 46321
UID:e.1835.3071
SEQUENCE:3
DTSTAMP:20260421T164443Z
URL:https://members.munsterchamber.org/events/details/love-your-business-2016-02-11-2016-3071
END:VEVENT

END:VCALENDAR
