BEGIN:VCALENDAR
VERSION:2.0
PRODID:-//ChamberMaster//Event Calendar 2.0//EN
METHOD:PUBLISH
X-PUBLISHED-TTL:P3D
REFRESH-INTERVAL:P3D
CALSCALE:GREGORIAN
BEGIN:VEVENT
DTSTART:20140213T160000Z
DTEND:20140213T200000Z
X-MICROSOFT-CDO-ALLDAYEVENT:FALSE
SUMMARY:Love Your Business
DESCRIPTION:6th Annual Love Your Business\n\nMulti-Chamber event    \n\n\n\nCONTACT THE CHAMBER OFFICE FOR AVAILABLE FOR  LUNCH RESERVATIONS\n\n219-836-5549
X-ALT-DESC;FMTTYPE=text/html:6th Annual Love Your Business<br />\nMulti-Chamber event&nbsp\;&nbsp\;&nbsp\;&nbsp\;<br />\n<br />\nCONTACT&nbsp\;THE CHAMBER OFFICE&nbsp\;FOR AVAILABLE FOR &nbsp\;LUNCH&nbsp\;RESERVATIONS<br />\n219-836-5549<br />\n&nbsp\;<br />\n&nbsp\;
LOCATION:Center for Visual and Performing Arts
UID:e.1835.281
SEQUENCE:3
DTSTAMP:20260420T120208Z
URL:https://members.munsterchamber.org/events/details/love-your-business-02-13-2014-281
END:VEVENT

END:VCALENDAR
